BEGIN:VCALENDAR
VERSION:2.0
PRODID:-//Scouting Lucas - ECPv6.15.20//NONSGML v1.0//EN
CALSCALE:GREGORIAN
METHOD:PUBLISH
X-WR-CALNAME:Scouting Lucas
X-ORIGINAL-URL:https://scoutinglucas.nl
X-WR-CALDESC:Evenementen voor Scouting Lucas
REFRESH-INTERVAL;VALUE=DURATION:PT1H
X-Robots-Tag:noindex
X-PUBLISHED-TTL:PT1H
BEGIN:VTIMEZONE
TZID:Europe/Amsterdam
BEGIN:DAYLIGHT
TZOFFSETFROM:+0100
TZOFFSETTO:+0200
TZNAME:CEST
DTSTART:20230326T010000
END:DAYLIGHT
BEGIN:STANDARD
TZOFFSETFROM:+0200
TZOFFSETTO:+0100
TZNAME:CET
DTSTART:20231029T010000
END:STANDARD
BEGIN:DAYLIGHT
TZOFFSETFROM:+0100
TZOFFSETTO:+0200
TZNAME:CEST
DTSTART:20240331T010000
END:DAYLIGHT
BEGIN:STANDARD
TZOFFSETFROM:+0200
TZOFFSETTO:+0100
TZNAME:CET
DTSTART:20241027T010000
END:STANDARD
BEGIN:DAYLIGHT
TZOFFSETFROM:+0100
TZOFFSETTO:+0200
TZNAME:CEST
DTSTART:20250330T010000
END:DAYLIGHT
BEGIN:STANDARD
TZOFFSETFROM:+0200
TZOFFSETTO:+0100
TZNAME:CET
DTSTART:20251026T010000
END:STANDARD
BEGIN:DAYLIGHT
TZOFFSETFROM:+0100
TZOFFSETTO:+0200
TZNAME:CEST
DTSTART:20260329T010000
END:DAYLIGHT
BEGIN:STANDARD
TZOFFSETFROM:+0200
TZOFFSETTO:+0100
TZNAME:CET
DTSTART:20261025T010000
END:STANDARD
END:VTIMEZONE
BEGIN:VEVENT
DTSTART;TZID=Europe/Amsterdam:20250824T123000
DTEND;TZID=Europe/Amsterdam:20250824T160000
DTSTAMP:20260424T004404
CREATED:20250810T140251Z
LAST-MODIFIED:20250810T140251Z
UID:4995-1756038600-1756051200@scoutinglucas.nl
SUMMARY:Opening seizoen 2025-2026 | Alle speltakken
DESCRIPTION:
URL:https://scoutinglucas.nl/agenda/opening-seizoen-2025-2026/
LOCATION:Werststeeg 79\, 5258 TA Berlicum\, Werststeeg 79\, Berlicum\, 5258 TA\, Netherlands
CATEGORIES:Groepsactiviteiten,Bevers,Welpen - Dinsdag,Welpen - Woensdag,Scouts,Explorers,Pivo's,Stampertjes,Stampij
END:VEVENT
BEGIN:VEVENT
DTSTART;VALUE=DATE:20250418
DTEND;VALUE=DATE:20250422
DTSTAMP:20260424T004404
CREATED:20231206T181654Z
LAST-MODIFIED:20241202T164709Z
UID:4210-1744934400-1745279999@scoutinglucas.nl
SUMMARY:HIT
DESCRIPTION:HIT website
URL:https://scoutinglucas.nl/agenda/hit/
CATEGORIES:Groepsactiviteiten,Bevers,Welpen - Dinsdag,Welpen - Woensdag,Scouts,Explorers,Pivo's,Stampertjes,Stampij
END:VEVENT
BEGIN:VEVENT
DTSTART;VALUE=DATE:20250308
DTEND;VALUE=DATE:20250309
DTSTAMP:20260424T004404
CREATED:20231206T180708Z
LAST-MODIFIED:20241202T174115Z
UID:4203-1741392000-1741478399@scoutinglucas.nl
SUMMARY:Iscout | Pivo's & Stampertjes & Stampij
DESCRIPTION:Iscout website
URL:https://scoutinglucas.nl/agenda/iscout/
CATEGORIES:Pivo's,Stampertjes,Stampij
END:VEVENT
BEGIN:VEVENT
DTSTART;VALUE=DATE:20240901
DTEND;VALUE=DATE:20240902
DTSTAMP:20260424T004404
CREATED:20240831T220055Z
LAST-MODIFIED:20241202T163149Z
UID:4229-1725148800-1725235199@scoutinglucas.nl
SUMMARY:Opening seizoen 2024-2025 | Alle speltakken
DESCRIPTION:
URL:https://scoutinglucas.nl/agenda/opening-seizoen-2024-2025/
CATEGORIES:Groepsactiviteiten,Bevers,Welpen - Dinsdag,Welpen - Woensdag,Scouts,Explorers,Pivo's,Stampertjes,Stampij
END:VEVENT
END:VCALENDAR